BEGIN:VCALENDAR
VERSION:2.0
PRODID:spatie/icalendar-generator
DESCRIPTION:Veranstaltungen von 
X-WR-CALDESC:Veranstaltungen von 
REFRESH-INTERVAL;VALUE=DURATION:PT1440M
X-PUBLISHED-TTL:PT1440M
BEGIN:VTIMEZONE
TZID:Europe/Berlin
BEGIN:STANDARD
DTSTART:20231029T030000Z
TZOFFSETFROM:+0200
TZOFFSETTO:+0100
END:STANDARD
BEGIN:DAYLIGHT
DTSTART:20240331T020000Z
TZOFFSETFROM:+0100
TZOFFSETTO:+0200
END:DAYLIGHT
END:VTIMEZONE
BEGIN:VTIMEZONE
TZID:UTC
BEGIN:STANDARD
DTSTART:20250725T093931Z
TZOFFSETFROM:+0000
TZOFFSETTO:+0000
END:STANDARD
END:VTIMEZONE
BEGIN:VEVENT
UID:3-2
DTSTAMP:20260421T093931Z
SUMMARY:Generalversammlung Sportverein
LOCATION:Gasthof \\\"Zum Diemeltal\\\" Am Weiher 6  Marsberg  34431
ORGANIZER;CN=Oliver Albracht:MAILTO:oalbracht@gmail.com
DTSTART;TZID=Europe/Berlin:20240113T200000
DTEND;TZID=Europe/Berlin:20240113T210000
X-ALT-DESC;FMTTYPE=TEXT/HTML:
CATEGORIES:Sportgemeinschaft
URL;VALUE=URI:https://helminghausen.net/mc-events/generalversammlung-sportv
 erein/
METHOD:PUBLISH
END:VEVENT
END:VCALENDAR