BEGIN:VCALENDAR
VERSION:2.0
PRODID:-// - ECPv6.15.20//NONSGML v1.0//EN
CALSCALE:GREGORIAN
METHOD:PUBLISH
X-ORIGINAL-URL:https://helminghausen.net
X-WR-CALDESC:Veranstaltungen für 
REFRESH-INTERVAL;VALUE=DURATION:PT1H
X-Robots-Tag:noindex
X-PUBLISHED-TTL:PT1H
BEGIN:VTIMEZONE
TZID:Europe/Berlin
BEGIN:DAYLIGHT
TZOFFSETFROM:+0100
TZOFFSETTO:+0200
TZNAME:CEST
DTSTART:20220327T010000
END:DAYLIGHT
BEGIN:STANDARD
TZOFFSETFROM:+0200
TZOFFSETTO:+0100
TZNAME:CET
DTSTART:20221030T010000
END:STANDARD
BEGIN:DAYLIGHT
TZOFFSETFROM:+0100
TZOFFSETTO:+0200
TZNAME:CEST
DTSTART:20230326T010000
END:DAYLIGHT
BEGIN:STANDARD
TZOFFSETFROM:+0200
TZOFFSETTO:+0100
TZNAME:CET
DTSTART:20231029T010000
END:STANDARD
BEGIN:DAYLIGHT
TZOFFSETFROM:+0100
TZOFFSETTO:+0200
TZNAME:CEST
DTSTART:20240331T010000
END:DAYLIGHT
BEGIN:STANDARD
TZOFFSETFROM:+0200
TZOFFSETTO:+0100
TZNAME:CET
DTSTART:20241027T010000
END:STANDARD
END:VTIMEZONE
BEGIN:VEVENT
DTSTART;TZID=Europe/Berlin:20231202T143000
DTEND;TZID=Europe/Berlin:20231202T200000
DTSTAMP:20260421T151011
CREATED:20231029T184926Z
LAST-MODIFIED:20231029T185531Z
UID:1790-1701527400-1701547200@helminghausen.net
SUMMARY:Weihnachtsmarkt
DESCRIPTION:Am ersten Adventsamstag\, den 2. Dezember veranstaltet die Dorfgemeinschaft Helminghausen bereits zum vierzehnten Mal einen Weihnachtsmarkt. Auf dem Gelände neben der Diemeltalhalle wird in 9 Verkaufsständen und dem geheizten Sportraum der Schützenhalle eine große Auswahl an Kulinarischem und Kunsthandwerk geboten. \nIm Einzelnen sind neben Kaffeetafel mit selbstgebackenen Kuchen auch Grillspezialitäten und eine besondere Suppe im Angebot. Auch original Helminghauser Honig und Liköre sowie selbst gebackene Weihnachtsplätzchen und Baumkuchen werden angeboten. Für die Kinder gibt es viele Aktionen und ein Glücksrad\, an dem neben vielen kleinen Preisen auch Weihnachtsbäume verlost werden. Von Kunsthandwerk über weihnachtliche Basteleien bis hin zu selbst gestrickten Socken besteht ein großes Angebot der Helminghauser Frauen. \nEröffnet wird der Weihnachtsmarkt gegen 14:30 Uhr. Während des ganzen Nachmittags findet auf der Showbühne ein abwechslungsreiches Programm statt. Musikalisch wird der Markt unterstützt durch das Jugendblasorchester Beringhausen\, die Alphornbläser aus Willingen\, dem MGV Bontkirchen\, den Padberger Gitarrenkreis sowie Helminghauser Dorfmusiker\, die internationale Weihnachtslieder interpretieren. Zum Abend hin ist eine Mitsingaktion geplant\, bei der sich auch glühweingestärkte Talente frei entfalten können. \nDer Weihnachtsmarkt wird ohne kommerzielle Anbieter ausschließlich durch die Dorfgemeinschaft und Freunde des Dorfes durchgeführt. Die Holzhütten wurden durch den Erlös vergangener Märkte in Eigenleistung geschaffen. Die Dorfgemeinschaft freut sich auf viele Gäste von nah und fern um einen gemütlichen\, vorweihnachtlichen Nachmittag in dem kleinen Dorf am Diemelsee zu genießen.
URL:https://helminghausen.net/event/weihnachtsmarkt/
LOCATION:An der Diemelhalle\, 34431 Marsberg / Helminghausen
ATTACH;FMTTYPE=application/pdf:https://helminghausen.net/wp-content/uploads/2023/10/Plakat_Weihnachtsmarkt_2023.pdf
END:VEVENT
END:VCALENDAR