BEGIN:VCALENDAR
VERSION:2.0
PRODID:-// - ECPv6.15.20//NONSGML v1.0//EN
CALSCALE:GREGORIAN
METHOD:PUBLISH
X-ORIGINAL-URL:https://helminghausen.net
X-WR-CALDESC:Veranstaltungen für 
REFRESH-INTERVAL;VALUE=DURATION:PT1H
X-Robots-Tag:noindex
X-PUBLISHED-TTL:PT1H
BEGIN:VTIMEZONE
TZID:UTC
BEGIN:STANDARD
TZOFFSETFROM:+0000
TZOFFSETTO:+0000
TZNAME:UTC
DTSTART:20230101T000000
END:STANDARD
END:VTIMEZONE
BEGIN:VEVENT
DTSTART;TZID=UTC:20240914T140000
DTEND;TZID=UTC:20240914T140000
DTSTAMP:20260422T041716
CREATED:20220331T104803Z
LAST-MODIFIED:20231230T144833Z
UID:954-1726322400-1726322400@helminghausen.net
SUMMARY:Weinfest
DESCRIPTION:
URL:https://helminghausen.net/event/weinfest/
END:VEVENT
END:VCALENDAR