BEGIN:VCALENDAR
VERSION:2.0
PRODID:-// - ECPv6.15.20//NONSGML v1.0//EN
CALSCALE:GREGORIAN
METHOD:PUBLISH
X-ORIGINAL-URL:https://helminghausen.net
X-WR-CALDESC:Veranstaltungen für 
REFRESH-INTERVAL;VALUE=DURATION:PT1H
X-Robots-Tag:noindex
X-PUBLISHED-TTL:PT1H
BEGIN:VTIMEZONE
TZID:Europe/Berlin
BEGIN:DAYLIGHT
TZOFFSETFROM:+0100
TZOFFSETTO:+0200
TZNAME:CEST
DTSTART:20230326T010000
END:DAYLIGHT
BEGIN:STANDARD
TZOFFSETFROM:+0200
TZOFFSETTO:+0100
TZNAME:CET
DTSTART:20231029T010000
END:STANDARD
BEGIN:DAYLIGHT
TZOFFSETFROM:+0100
TZOFFSETTO:+0200
TZNAME:CEST
DTSTART:20240331T010000
END:DAYLIGHT
BEGIN:STANDARD
TZOFFSETFROM:+0200
TZOFFSETTO:+0100
TZNAME:CET
DTSTART:20241027T010000
END:STANDARD
BEGIN:DAYLIGHT
TZOFFSETFROM:+0100
TZOFFSETTO:+0200
TZNAME:CEST
DTSTART:20250330T010000
END:DAYLIGHT
BEGIN:STANDARD
TZOFFSETFROM:+0200
TZOFFSETTO:+0100
TZNAME:CET
DTSTART:20251026T010000
END:STANDARD
END:VTIMEZONE
BEGIN:VEVENT
DTSTART;TZID=Europe/Berlin:20240323T100000
DTEND;TZID=Europe/Berlin:20240323T130000
DTSTAMP:20260421T181006
CREATED:20230306T174037Z
LAST-MODIFIED:20231230T125140Z
UID:1233-1711188000-1711198800@helminghausen.net
SUMMARY:Aktion Saubere Landschaft
DESCRIPTION:Treffpunkt um 10:00 Uhr am Gasthof zum Diemeltal. \nZiel gegen 12:00 Uhr an der Schützenhalle.
URL:https://helminghausen.net/event/aktion-saubere-landschaft-2/
ATTACH;FMTTYPE=image/jpeg:https://helminghausen.net/wp-content/uploads/2022/03/Saubere_Landschaft_2022-scaled.jpg
END:VEVENT
END:VCALENDAR